BEGIN:VCALENDAR
VERSION:2.0
PRODID:-//D. Y. Patil Agriculture and Technical University, Talsande - ECPv5.16.1.1//NONSGML v1.0//EN
CALSCALE:GREGORIAN
METHOD:PUBLISH
X-WR-CALNAME:D. Y. Patil Agriculture and Technical University, Talsande
X-ORIGINAL-URL:https://www.dyp-atu.org
X-WR-CALDESC:Events for D. Y. Patil Agriculture and Technical University, Talsande
REFRESH-INTERVAL;VALUE=DURATION:PT1H
X-Robots-Tag:noindex
X-PUBLISHED-TTL:PT1H
BEGIN:VTIMEZONE
TZID:UTC
BEGIN:STANDARD
TZOFFSETFROM:+0000
TZOFFSETTO:+0000
TZNAME:UTC
DTSTART:20220101T000000
END:STANDARD
END:VTIMEZONE
BEGIN:VEVENT
DTSTART;VALUE=DATE:20220826
DTEND;VALUE=DATE:20220827
DTSTAMP:20260423T231656
CREATED:20220829T035708Z
LAST-MODIFIED:20220829T042250Z
UID:12993-1661472000-1661558399@www.dyp-atu.org
SUMMARY:Workshop on Management Games
DESCRIPTION:
URL:https://www.dyp-atu.org/event/workshop-on-management-games/
LOCATION:DYPATU\, Wathar – Warananager Road Talsande\, Kolhapur\, Maharashtra\, 416112\, India
ATTACH;FMTTYPE=image/jpeg:https://www.dyp-atu.org/wp-content/uploads/2022/08/WhatsApp-Image-2022-08-26-at-10.58.04-PM.jpeg
ORGANIZER;CN="DYPATU":MAILTO:info@dyp-atu.org
END:VEVENT
BEGIN:VEVENT
DTSTART;VALUE=DATE:20220825
DTEND;VALUE=DATE:20220826
DTSTAMP:20260423T231656
CREATED:20220826T053927Z
LAST-MODIFIED:20220826T074202Z
UID:12937-1661385600-1661471999@www.dyp-atu.org
SUMMARY:Agri Business Management Program Inauguration
DESCRIPTION:D Y Patil Agriculture & Technical University\, held the Inaugural Induction Program for the Agri Business Management Students. Students from all over Maharashtra have taken the admission for the Management course. D Y Patil Agriculture and Technical University will be providing Internship and job placements for the students from this Management course. \nPresent were\nProf. Dr. K. Prathapan\, Vice Chancellor\, DYP-ATU\nDr. J. A. Khot\, Registrar\, DYP-ATU\nDr. S. B. Patil\, Principal\, D. Y. Patil College of Agricultural Engineering & Technology\nDr. Amol Gatade\, Farm Incharge\nDr. Murali Manohar Bhupathi\, Dean\, Commerce & Management\, DYP-ATU\nDr. Sangram Patil\, Associate Dean (CSE)\, DYP-ATU\nDr. Jayant Ghatage\, Associate Dean (Agriculture Engineering)\, DYP-ATU\nMr. P. S. Patil\, Principal\, Agriculture Diploma\nDr. Sagar Wadkar -Policy Analyst/ Researcher/ Social Enterprises Management Trainer.\nABM Inauguration Photo Gallary
URL:https://www.dyp-atu.org/event/abm-inauguration/
LOCATION:DYPATU\, Wathar – Warananager Road Talsande\, Kolhapur\, Maharashtra\, 416112\, India
ATTACH;FMTTYPE=image/jpeg:https://www.dyp-atu.org/wp-content/uploads/2022/08/ABM-Inaguration-12.jpeg
ORGANIZER;CN="DYPATU":MAILTO:info@dyp-atu.org
END:VEVENT
END:VCALENDAR